BEGIN:VCALENDAR
VERSION:2.0
PRODID:-//When It Grains - ECPv6.15.17//NONSGML v1.0//EN
CALSCALE:GREGORIAN
METHOD:PUBLISH
X-WR-CALNAME:When It Grains
X-ORIGINAL-URL:https://whenitgrains.art
X-WR-CALDESC:Events for When It Grains
REFRESH-INTERVAL;VALUE=DURATION:PT1H
X-Robots-Tag:noindex
X-PUBLISHED-TTL:PT1H
BEGIN:VTIMEZONE
TZID:Asia/Kolkata
BEGIN:STANDARD
TZOFFSETFROM:+0530
TZOFFSETTO:+0530
TZNAME:IST
DTSTART:20250101T000000
END:STANDARD
END:VTIMEZONE
BEGIN:VEVENT
DTSTART;TZID=Asia/Kolkata:20260307T090000
DTEND;TZID=Asia/Kolkata:20260307T210000
DTSTAMP:20260417T064340
CREATED:20260304T082328Z
LAST-MODIFIED:20260304T225027Z
UID:121-1772874000-1772917200@whenitgrains.art
SUMMARY:When It Grains 2026
DESCRIPTION:When It Grains 2026				\n				\n				\n				\n					\n		\n			March 7\, 2026\n\n	\n\n	 @ \n\n\n9:00 am\n\n		\n\n\n\n	\n	 - \n\n9:00 pm\n\n\n\n	\n				\n				\n				\n				\n					\n	\n		\n\n	\n	Add to calendar	\n		\n	\n\n		\n			\n									\n	Google Calendar\n\n									\n	iCalendar\n\n									\n	Outlook 365\n\n									\n	Outlook Live\n\n							\n		\n\n		\n	\n\n				\n				\n				\n		\n				\n					Location				\n				\n				\n					\n				\n				\n	\n	\n	\n\nJesur\, Habra\n	\n		\n		When It Grains\,\n\n	West Bengal\n\n	743233\n\n	India\n\n\n\n\n	+ Google Map \n\n\n	\n	Phone:\n					\n			9635092848			\n	 \n\n\n	\n	 \n\n\n\n	\n\n\n\n		\n	\n				\n				\n				\n					\n				\n		\n					\n				\n									We are thrilled to announce the arrival of the 8th edition of When It Grains! It’s truly incredible how quickly time flies. This celebration of music\, passion\, unity\, and universal brotherhood will take place on 7th March\, 2026. Join us for a gathering of soulful musicians\, performers\, creative dreamers\, and lovers of all things wild and free. This year\, we are excited to collaborate with talented craftsmen\, designers\, and illustrators\, who will showcase their unique creations at the venue. 								\n					\n				\n		\n					\n		\n				\n					Artist Line Up				\n				\n							\n			\n					\n						\n				#1			\n		\n				\n						\n				#2			\n		\n				\n						\n				#3			\n		\n					\n			\n				\n				\n									The first name for the 8th edition of WIG is here and we’re starting strong. Introducing @matte_finishh This is just the beginning. The lineup has officially started rolling out… and trust us\, it only gets better from here.								\n				\n		\n				\n									Our second performer for When it grains\, is Brahmananda (@mr.oldschoolcookie and others).Again they will bring soulful music\, powerful rhythms\, and an energy you will truly feel.								\n				\n		\n				\n									We are honoured to have Tejapriyo Mukherjee with us at the 8th edition of When it Grains. A long-time part of this journey\, he has witnessed the spirit of this gathering grow over the years.This time\, he joins us not just with music\, but with stories\, memories\, and experiences to share.It’s going to be a heartfelt moment for all of us.								\n				\n					\n		\n						\n				\n		\n				\n							\n			\n											\n												\n											\n					\n											\n				\n									\n									\n						\n				\n					\n				\n		\n					\n				\n					\n	\n		\n			\n			\n			\n		\n		\n			\n			\n			\n							\n			\n		\n	\n\n				\n					\n				\n		\n				\n									When It Grains 2026 								\n				\n							\n							\n					\n						Facebook\n											\n				\n							\n					\n						Instagram\n											\n				\n							\n					\n						Youtube
URL:https://whenitgrains.art/event/when-it-grains-2026/
LOCATION:WIG Ground\, Jesur\, Habra\, When It Grains\, West Bengal\, 743233\, India
ATTACH;FMTTYPE=image/jpeg:https://whenitgrains.art/wp-content/uploads/2026/03/Untitled-design-78.jpg
END:VEVENT
END:VCALENDAR